BEGIN:VCALENDAR
VERSION:2.0
PRODID:-//Waterfront Barge Showboat &amp; Museum - ECPv6.15.17.1//NONSGML v1.0//EN
CALSCALE:GREGORIAN
METHOD:PUBLISH
X-WR-CALNAME:Waterfront Barge Showboat &amp; Museum
X-ORIGINAL-URL:https://waterfrontmuseum.org
X-WR-CALDESC:Events for Waterfront Barge Showboat &amp; Museum
REFRESH-INTERVAL;VALUE=DURATION:PT1H
X-Robots-Tag:noindex
X-PUBLISHED-TTL:PT1H
BEGIN:VTIMEZONE
TZID:America/New_York
BEGIN:DAYLIGHT
TZOFFSETFROM:-0500
TZOFFSETTO:-0400
TZNAME:EDT
DTSTART:20250309T070000
END:DAYLIGHT
BEGIN:STANDARD
TZOFFSETFROM:-0400
TZOFFSETTO:-0500
TZNAME:EST
DTSTART:20251102T060000
END:STANDARD
BEGIN:DAYLIGHT
TZOFFSETFROM:-0500
TZOFFSETTO:-0400
TZNAME:EDT
DTSTART:20260308T070000
END:DAYLIGHT
BEGIN:STANDARD
TZOFFSETFROM:-0400
TZOFFSETTO:-0500
TZNAME:EST
DTSTART:20261101T060000
END:STANDARD
BEGIN:DAYLIGHT
TZOFFSETFROM:-0500
TZOFFSETTO:-0400
TZNAME:EDT
DTSTART:20270314T070000
END:DAYLIGHT
BEGIN:STANDARD
TZOFFSETFROM:-0400
TZOFFSETTO:-0500
TZNAME:EST
DTSTART:20271107T060000
END:STANDARD
END:VTIMEZONE
BEGIN:VEVENT
DTSTART;TZID=America/New_York:20260425T130000
DTEND;TZID=America/New_York:20260425T170000
DTSTAMP:20260424T083854
CREATED:20251023T142008Z
LAST-MODIFIED:20260321T150027Z
UID:10008661-1777122000-1777136400@waterfrontmuseum.org
SUMMARY:OPEN HOURS
DESCRIPTION:The Waterfront Museum is open on most SATURDAYS 1-5pm and THURSDAYS 4-8pm for free tours for families and individuals when the barge is docked in Red Hook. \nWe will be closed on Saturday\, May 2nd.
URL:https://waterfrontmuseum.org/event/open-hours/2026-04-25/
LOCATION:Waterfront Museum\, 290 Conover Street\, Brooklyn\, NY\, 11231\, United States
ATTACH;FMTTYPE=image/jpeg:https://waterfrontmuseum.org/wp-content/uploads/2023/07/E40886AB-5060-42EA-AA68-2DF9D4200D02_1_105_c.jpeg
END:VEVENT
BEGIN:VEVENT
DTSTART;TZID=America/New_York:20260430T160000
DTEND;TZID=America/New_York:20260430T200000
DTSTAMP:20260424T083854
CREATED:20251023T142117Z
LAST-MODIFIED:20260330T004504Z
UID:10008137-1777564800-1777579200@waterfrontmuseum.org
SUMMARY:OPEN HOURS
DESCRIPTION:The Waterfront Museum is open on most SATURDAYS 1-5pm and THURSDAYS 4-8pm for free tours for families and individuals when the barge is docked in Red Hook. \nWe will be closed on Saturday\, May 2nd.
URL:https://waterfrontmuseum.org/event/open-hours-3-2/2026-04-30/
LOCATION:Waterfront Museum\, 290 Conover Street\, Brooklyn\, NY\, 11231\, United States
CATEGORIES:Open Hours
ATTACH;FMTTYPE=image/jpeg:https://waterfrontmuseum.org/wp-content/uploads/2023/07/E40886AB-5060-42EA-AA68-2DF9D4200D02_1_105_c.jpeg
END:VEVENT
BEGIN:VEVENT
DTSTART;TZID=America/New_York:20260507T160000
DTEND;TZID=America/New_York:20260507T200000
DTSTAMP:20260424T083854
CREATED:20251023T142117Z
LAST-MODIFIED:20260330T004504Z
UID:10008138-1778169600-1778184000@waterfrontmuseum.org
SUMMARY:OPEN HOURS
DESCRIPTION:The Waterfront Museum is open on most SATURDAYS 1-5pm and THURSDAYS 4-8pm for free tours for families and individuals when the barge is docked in Red Hook. \nWe will be closed on Saturday\, May 2nd.
URL:https://waterfrontmuseum.org/event/open-hours-3-2/2026-05-07/
LOCATION:Waterfront Museum\, 290 Conover Street\, Brooklyn\, NY\, 11231\, United States
CATEGORIES:Open Hours
ATTACH;FMTTYPE=image/jpeg:https://waterfrontmuseum.org/wp-content/uploads/2023/07/E40886AB-5060-42EA-AA68-2DF9D4200D02_1_105_c.jpeg
END:VEVENT
BEGIN:VEVENT
DTSTART;TZID=America/New_York:20260509T130000
DTEND;TZID=America/New_York:20260509T170000
DTSTAMP:20260424T083854
CREATED:20251023T142008Z
LAST-MODIFIED:20260321T150027Z
UID:10008663-1778331600-1778346000@waterfrontmuseum.org
SUMMARY:OPEN HOURS
DESCRIPTION:The Waterfront Museum is open on most SATURDAYS 1-5pm and THURSDAYS 4-8pm for free tours for families and individuals when the barge is docked in Red Hook. \nWe will be closed on Saturday\, May 2nd.
URL:https://waterfrontmuseum.org/event/open-hours/2026-05-09/
LOCATION:Waterfront Museum\, 290 Conover Street\, Brooklyn\, NY\, 11231\, United States
ATTACH;FMTTYPE=image/jpeg:https://waterfrontmuseum.org/wp-content/uploads/2023/07/E40886AB-5060-42EA-AA68-2DF9D4200D02_1_105_c.jpeg
END:VEVENT
BEGIN:VEVENT
DTSTART;TZID=America/New_York:20260514T160000
DTEND;TZID=America/New_York:20260514T200000
DTSTAMP:20260424T083854
CREATED:20251023T142117Z
LAST-MODIFIED:20260330T004504Z
UID:10008139-1778774400-1778788800@waterfrontmuseum.org
SUMMARY:OPEN HOURS
DESCRIPTION:The Waterfront Museum is open on most SATURDAYS 1-5pm and THURSDAYS 4-8pm for free tours for families and individuals when the barge is docked in Red Hook. \nWe will be closed on Saturday\, May 2nd.
URL:https://waterfrontmuseum.org/event/open-hours-3-2/2026-05-14/
LOCATION:Waterfront Museum\, 290 Conover Street\, Brooklyn\, NY\, 11231\, United States
CATEGORIES:Open Hours
ATTACH;FMTTYPE=image/jpeg:https://waterfrontmuseum.org/wp-content/uploads/2023/07/E40886AB-5060-42EA-AA68-2DF9D4200D02_1_105_c.jpeg
END:VEVENT
BEGIN:VEVENT
DTSTART;TZID=America/New_York:20260516T130000
DTEND;TZID=America/New_York:20260516T170000
DTSTAMP:20260424T083854
CREATED:20251023T142008Z
LAST-MODIFIED:20260321T150027Z
UID:10008664-1778936400-1778950800@waterfrontmuseum.org
SUMMARY:OPEN HOURS
DESCRIPTION:The Waterfront Museum is open on most SATURDAYS 1-5pm and THURSDAYS 4-8pm for free tours for families and individuals when the barge is docked in Red Hook. \nWe will be closed on Saturday\, May 2nd.
URL:https://waterfrontmuseum.org/event/open-hours/2026-05-16/
LOCATION:Waterfront Museum\, 290 Conover Street\, Brooklyn\, NY\, 11231\, United States
ATTACH;FMTTYPE=image/jpeg:https://waterfrontmuseum.org/wp-content/uploads/2023/07/E40886AB-5060-42EA-AA68-2DF9D4200D02_1_105_c.jpeg
END:VEVENT
BEGIN:VEVENT
DTSTART;TZID=America/New_York:20260521T160000
DTEND;TZID=America/New_York:20260521T200000
DTSTAMP:20260424T083854
CREATED:20251023T142117Z
LAST-MODIFIED:20260330T004504Z
UID:10008140-1779379200-1779393600@waterfrontmuseum.org
SUMMARY:OPEN HOURS
DESCRIPTION:The Waterfront Museum is open on most SATURDAYS 1-5pm and THURSDAYS 4-8pm for free tours for families and individuals when the barge is docked in Red Hook. \nWe will be closed on Saturday\, May 2nd.
URL:https://waterfrontmuseum.org/event/open-hours-3-2/2026-05-21/
LOCATION:Waterfront Museum\, 290 Conover Street\, Brooklyn\, NY\, 11231\, United States
CATEGORIES:Open Hours
ATTACH;FMTTYPE=image/jpeg:https://waterfrontmuseum.org/wp-content/uploads/2023/07/E40886AB-5060-42EA-AA68-2DF9D4200D02_1_105_c.jpeg
END:VEVENT
BEGIN:VEVENT
DTSTART;TZID=America/New_York:20260523T130000
DTEND;TZID=America/New_York:20260523T170000
DTSTAMP:20260424T083854
CREATED:20251023T142008Z
LAST-MODIFIED:20260321T150027Z
UID:10008665-1779541200-1779555600@waterfrontmuseum.org
SUMMARY:OPEN HOURS
DESCRIPTION:The Waterfront Museum is open on most SATURDAYS 1-5pm and THURSDAYS 4-8pm for free tours for families and individuals when the barge is docked in Red Hook. \nWe will be closed on Saturday\, May 2nd.
URL:https://waterfrontmuseum.org/event/open-hours/2026-05-23/
LOCATION:Waterfront Museum\, 290 Conover Street\, Brooklyn\, NY\, 11231\, United States
ATTACH;FMTTYPE=image/jpeg:https://waterfrontmuseum.org/wp-content/uploads/2023/07/E40886AB-5060-42EA-AA68-2DF9D4200D02_1_105_c.jpeg
END:VEVENT
BEGIN:VEVENT
DTSTART;TZID=America/New_York:20260528T160000
DTEND;TZID=America/New_York:20260528T200000
DTSTAMP:20260424T083854
CREATED:20251023T142117Z
LAST-MODIFIED:20260330T004504Z
UID:10008141-1779984000-1779998400@waterfrontmuseum.org
SUMMARY:OPEN HOURS
DESCRIPTION:The Waterfront Museum is open on most SATURDAYS 1-5pm and THURSDAYS 4-8pm for free tours for families and individuals when the barge is docked in Red Hook. \nWe will be closed on Saturday\, May 2nd.
URL:https://waterfrontmuseum.org/event/open-hours-3-2/2026-05-28/
LOCATION:Waterfront Museum\, 290 Conover Street\, Brooklyn\, NY\, 11231\, United States
CATEGORIES:Open Hours
ATTACH;FMTTYPE=image/jpeg:https://waterfrontmuseum.org/wp-content/uploads/2023/07/E40886AB-5060-42EA-AA68-2DF9D4200D02_1_105_c.jpeg
END:VEVENT
BEGIN:VEVENT
DTSTART;TZID=America/New_York:20260530T130000
DTEND;TZID=America/New_York:20260530T170000
DTSTAMP:20260424T083854
CREATED:20251023T142008Z
LAST-MODIFIED:20260321T150027Z
UID:10008666-1780146000-1780160400@waterfrontmuseum.org
SUMMARY:OPEN HOURS
DESCRIPTION:The Waterfront Museum is open on most SATURDAYS 1-5pm and THURSDAYS 4-8pm for free tours for families and individuals when the barge is docked in Red Hook. \nWe will be closed on Saturday\, May 2nd.
URL:https://waterfrontmuseum.org/event/open-hours/2026-05-30/
LOCATION:Waterfront Museum\, 290 Conover Street\, Brooklyn\, NY\, 11231\, United States
ATTACH;FMTTYPE=image/jpeg:https://waterfrontmuseum.org/wp-content/uploads/2023/07/E40886AB-5060-42EA-AA68-2DF9D4200D02_1_105_c.jpeg
END:VEVENT
BEGIN:VEVENT
DTSTART;TZID=America/New_York:20260604T160000
DTEND;TZID=America/New_York:20260604T200000
DTSTAMP:20260424T083854
CREATED:20251023T142117Z
LAST-MODIFIED:20260330T004504Z
UID:10008142-1780588800-1780603200@waterfrontmuseum.org
SUMMARY:OPEN HOURS
DESCRIPTION:The Waterfront Museum is open on most SATURDAYS 1-5pm and THURSDAYS 4-8pm for free tours for families and individuals when the barge is docked in Red Hook. \nWe will be closed on Saturday\, May 2nd.
URL:https://waterfrontmuseum.org/event/open-hours-3-2/2026-06-04/
LOCATION:Waterfront Museum\, 290 Conover Street\, Brooklyn\, NY\, 11231\, United States
CATEGORIES:Open Hours
ATTACH;FMTTYPE=image/jpeg:https://waterfrontmuseum.org/wp-content/uploads/2023/07/E40886AB-5060-42EA-AA68-2DF9D4200D02_1_105_c.jpeg
END:VEVENT
BEGIN:VEVENT
DTSTART;TZID=America/New_York:20260606T130000
DTEND;TZID=America/New_York:20260606T170000
DTSTAMP:20260424T083854
CREATED:20251023T142008Z
LAST-MODIFIED:20260321T150027Z
UID:10008667-1780750800-1780765200@waterfrontmuseum.org
SUMMARY:OPEN HOURS
DESCRIPTION:The Waterfront Museum is open on most SATURDAYS 1-5pm and THURSDAYS 4-8pm for free tours for families and individuals when the barge is docked in Red Hook. \nWe will be closed on Saturday\, May 2nd.
URL:https://waterfrontmuseum.org/event/open-hours/2026-06-06/
LOCATION:Waterfront Museum\, 290 Conover Street\, Brooklyn\, NY\, 11231\, United States
ATTACH;FMTTYPE=image/jpeg:https://waterfrontmuseum.org/wp-content/uploads/2023/07/E40886AB-5060-42EA-AA68-2DF9D4200D02_1_105_c.jpeg
END:VEVENT
BEGIN:VEVENT
DTSTART;TZID=America/New_York:20260611T160000
DTEND;TZID=America/New_York:20260611T200000
DTSTAMP:20260424T083854
CREATED:20251023T142117Z
LAST-MODIFIED:20260330T004504Z
UID:10008143-1781193600-1781208000@waterfrontmuseum.org
SUMMARY:OPEN HOURS
DESCRIPTION:The Waterfront Museum is open on most SATURDAYS 1-5pm and THURSDAYS 4-8pm for free tours for families and individuals when the barge is docked in Red Hook. \nWe will be closed on Saturday\, May 2nd.
URL:https://waterfrontmuseum.org/event/open-hours-3-2/2026-06-11/
LOCATION:Waterfront Museum\, 290 Conover Street\, Brooklyn\, NY\, 11231\, United States
CATEGORIES:Open Hours
ATTACH;FMTTYPE=image/jpeg:https://waterfrontmuseum.org/wp-content/uploads/2023/07/E40886AB-5060-42EA-AA68-2DF9D4200D02_1_105_c.jpeg
END:VEVENT
BEGIN:VEVENT
DTSTART;TZID=America/New_York:20260613T130000
DTEND;TZID=America/New_York:20260613T170000
DTSTAMP:20260424T083854
CREATED:20251023T142008Z
LAST-MODIFIED:20260321T150027Z
UID:10008668-1781355600-1781370000@waterfrontmuseum.org
SUMMARY:OPEN HOURS
DESCRIPTION:The Waterfront Museum is open on most SATURDAYS 1-5pm and THURSDAYS 4-8pm for free tours for families and individuals when the barge is docked in Red Hook. \nWe will be closed on Saturday\, May 2nd.
URL:https://waterfrontmuseum.org/event/open-hours/2026-06-13/
LOCATION:Waterfront Museum\, 290 Conover Street\, Brooklyn\, NY\, 11231\, United States
ATTACH;FMTTYPE=image/jpeg:https://waterfrontmuseum.org/wp-content/uploads/2023/07/E40886AB-5060-42EA-AA68-2DF9D4200D02_1_105_c.jpeg
END:VEVENT
BEGIN:VEVENT
DTSTART;TZID=America/New_York:20260618T160000
DTEND;TZID=America/New_York:20260618T200000
DTSTAMP:20260424T083854
CREATED:20251023T142117Z
LAST-MODIFIED:20260330T004504Z
UID:10008144-1781798400-1781812800@waterfrontmuseum.org
SUMMARY:OPEN HOURS
DESCRIPTION:The Waterfront Museum is open on most SATURDAYS 1-5pm and THURSDAYS 4-8pm for free tours for families and individuals when the barge is docked in Red Hook. \nWe will be closed on Saturday\, May 2nd.
URL:https://waterfrontmuseum.org/event/open-hours-3-2/2026-06-18/
LOCATION:Waterfront Museum\, 290 Conover Street\, Brooklyn\, NY\, 11231\, United States
CATEGORIES:Open Hours
ATTACH;FMTTYPE=image/jpeg:https://waterfrontmuseum.org/wp-content/uploads/2023/07/E40886AB-5060-42EA-AA68-2DF9D4200D02_1_105_c.jpeg
END:VEVENT
BEGIN:VEVENT
DTSTART;TZID=America/New_York:20260620T130000
DTEND;TZID=America/New_York:20260620T170000
DTSTAMP:20260424T083854
CREATED:20251023T142008Z
LAST-MODIFIED:20260321T150027Z
UID:10008669-1781960400-1781974800@waterfrontmuseum.org
SUMMARY:OPEN HOURS
DESCRIPTION:The Waterfront Museum is open on most SATURDAYS 1-5pm and THURSDAYS 4-8pm for free tours for families and individuals when the barge is docked in Red Hook. \nWe will be closed on Saturday\, May 2nd.
URL:https://waterfrontmuseum.org/event/open-hours/2026-06-20/
LOCATION:Waterfront Museum\, 290 Conover Street\, Brooklyn\, NY\, 11231\, United States
ATTACH;FMTTYPE=image/jpeg:https://waterfrontmuseum.org/wp-content/uploads/2023/07/E40886AB-5060-42EA-AA68-2DF9D4200D02_1_105_c.jpeg
END:VEVENT
BEGIN:VEVENT
DTSTART;TZID=America/New_York:20260625T160000
DTEND;TZID=America/New_York:20260625T200000
DTSTAMP:20260424T083854
CREATED:20251023T142117Z
LAST-MODIFIED:20260330T004504Z
UID:10008145-1782403200-1782417600@waterfrontmuseum.org
SUMMARY:OPEN HOURS
DESCRIPTION:The Waterfront Museum is open on most SATURDAYS 1-5pm and THURSDAYS 4-8pm for free tours for families and individuals when the barge is docked in Red Hook. \nWe will be closed on Saturday\, May 2nd.
URL:https://waterfrontmuseum.org/event/open-hours-3-2/2026-06-25/
LOCATION:Waterfront Museum\, 290 Conover Street\, Brooklyn\, NY\, 11231\, United States
CATEGORIES:Open Hours
ATTACH;FMTTYPE=image/jpeg:https://waterfrontmuseum.org/wp-content/uploads/2023/07/E40886AB-5060-42EA-AA68-2DF9D4200D02_1_105_c.jpeg
END:VEVENT
BEGIN:VEVENT
DTSTART;TZID=America/New_York:20260627T130000
DTEND;TZID=America/New_York:20260627T170000
DTSTAMP:20260424T083854
CREATED:20251023T142008Z
LAST-MODIFIED:20260321T150027Z
UID:10008670-1782565200-1782579600@waterfrontmuseum.org
SUMMARY:OPEN HOURS
DESCRIPTION:The Waterfront Museum is open on most SATURDAYS 1-5pm and THURSDAYS 4-8pm for free tours for families and individuals when the barge is docked in Red Hook. \nWe will be closed on Saturday\, May 2nd.
URL:https://waterfrontmuseum.org/event/open-hours/2026-06-27/
LOCATION:Waterfront Museum\, 290 Conover Street\, Brooklyn\, NY\, 11231\, United States
ATTACH;FMTTYPE=image/jpeg:https://waterfrontmuseum.org/wp-content/uploads/2023/07/E40886AB-5060-42EA-AA68-2DF9D4200D02_1_105_c.jpeg
END:VEVENT
BEGIN:VEVENT
DTSTART;TZID=America/New_York:20260702T160000
DTEND;TZID=America/New_York:20260702T200000
DTSTAMP:20260424T083854
CREATED:20251023T142117Z
LAST-MODIFIED:20260330T004504Z
UID:10008146-1783008000-1783022400@waterfrontmuseum.org
SUMMARY:OPEN HOURS
DESCRIPTION:The Waterfront Museum is open on most SATURDAYS 1-5pm and THURSDAYS 4-8pm for free tours for families and individuals when the barge is docked in Red Hook. \nWe will be closed on Saturday\, May 2nd.
URL:https://waterfrontmuseum.org/event/open-hours-3-2/2026-07-02/
LOCATION:Waterfront Museum\, 290 Conover Street\, Brooklyn\, NY\, 11231\, United States
CATEGORIES:Open Hours
ATTACH;FMTTYPE=image/jpeg:https://waterfrontmuseum.org/wp-content/uploads/2023/07/E40886AB-5060-42EA-AA68-2DF9D4200D02_1_105_c.jpeg
END:VEVENT
BEGIN:VEVENT
DTSTART;TZID=America/New_York:20260704T130000
DTEND;TZID=America/New_York:20260704T170000
DTSTAMP:20260424T083854
CREATED:20251023T142008Z
LAST-MODIFIED:20260321T150027Z
UID:10008671-1783170000-1783184400@waterfrontmuseum.org
SUMMARY:OPEN HOURS
DESCRIPTION:The Waterfront Museum is open on most SATURDAYS 1-5pm and THURSDAYS 4-8pm for free tours for families and individuals when the barge is docked in Red Hook. \nWe will be closed on Saturday\, May 2nd.
URL:https://waterfrontmuseum.org/event/open-hours/2026-07-04/
LOCATION:Waterfront Museum\, 290 Conover Street\, Brooklyn\, NY\, 11231\, United States
ATTACH;FMTTYPE=image/jpeg:https://waterfrontmuseum.org/wp-content/uploads/2023/07/E40886AB-5060-42EA-AA68-2DF9D4200D02_1_105_c.jpeg
END:VEVENT
BEGIN:VEVENT
DTSTART;TZID=America/New_York:20260709T160000
DTEND;TZID=America/New_York:20260709T200000
DTSTAMP:20260424T083854
CREATED:20251023T142117Z
LAST-MODIFIED:20260330T004504Z
UID:10008147-1783612800-1783627200@waterfrontmuseum.org
SUMMARY:OPEN HOURS
DESCRIPTION:The Waterfront Museum is open on most SATURDAYS 1-5pm and THURSDAYS 4-8pm for free tours for families and individuals when the barge is docked in Red Hook. \nWe will be closed on Saturday\, May 2nd.
URL:https://waterfrontmuseum.org/event/open-hours-3-2/2026-07-09/
LOCATION:Waterfront Museum\, 290 Conover Street\, Brooklyn\, NY\, 11231\, United States
CATEGORIES:Open Hours
ATTACH;FMTTYPE=image/jpeg:https://waterfrontmuseum.org/wp-content/uploads/2023/07/E40886AB-5060-42EA-AA68-2DF9D4200D02_1_105_c.jpeg
END:VEVENT
BEGIN:VEVENT
DTSTART;TZID=America/New_York:20260711T130000
DTEND;TZID=America/New_York:20260711T170000
DTSTAMP:20260424T083854
CREATED:20251023T142008Z
LAST-MODIFIED:20260321T150027Z
UID:10008672-1783774800-1783789200@waterfrontmuseum.org
SUMMARY:OPEN HOURS
DESCRIPTION:The Waterfront Museum is open on most SATURDAYS 1-5pm and THURSDAYS 4-8pm for free tours for families and individuals when the barge is docked in Red Hook. \nWe will be closed on Saturday\, May 2nd.
URL:https://waterfrontmuseum.org/event/open-hours/2026-07-11/
LOCATION:Waterfront Museum\, 290 Conover Street\, Brooklyn\, NY\, 11231\, United States
ATTACH;FMTTYPE=image/jpeg:https://waterfrontmuseum.org/wp-content/uploads/2023/07/E40886AB-5060-42EA-AA68-2DF9D4200D02_1_105_c.jpeg
END:VEVENT
BEGIN:VEVENT
DTSTART;TZID=America/New_York:20260716T160000
DTEND;TZID=America/New_York:20260716T200000
DTSTAMP:20260424T083854
CREATED:20251023T142117Z
LAST-MODIFIED:20260330T004504Z
UID:10008148-1784217600-1784232000@waterfrontmuseum.org
SUMMARY:OPEN HOURS
DESCRIPTION:The Waterfront Museum is open on most SATURDAYS 1-5pm and THURSDAYS 4-8pm for free tours for families and individuals when the barge is docked in Red Hook. \nWe will be closed on Saturday\, May 2nd.
URL:https://waterfrontmuseum.org/event/open-hours-3-2/2026-07-16/
LOCATION:Waterfront Museum\, 290 Conover Street\, Brooklyn\, NY\, 11231\, United States
CATEGORIES:Open Hours
ATTACH;FMTTYPE=image/jpeg:https://waterfrontmuseum.org/wp-content/uploads/2023/07/E40886AB-5060-42EA-AA68-2DF9D4200D02_1_105_c.jpeg
END:VEVENT
BEGIN:VEVENT
DTSTART;TZID=America/New_York:20260718T130000
DTEND;TZID=America/New_York:20260718T170000
DTSTAMP:20260424T083854
CREATED:20251023T142008Z
LAST-MODIFIED:20260321T150027Z
UID:10008673-1784379600-1784394000@waterfrontmuseum.org
SUMMARY:OPEN HOURS
DESCRIPTION:The Waterfront Museum is open on most SATURDAYS 1-5pm and THURSDAYS 4-8pm for free tours for families and individuals when the barge is docked in Red Hook. \nWe will be closed on Saturday\, May 2nd.
URL:https://waterfrontmuseum.org/event/open-hours/2026-07-18/
LOCATION:Waterfront Museum\, 290 Conover Street\, Brooklyn\, NY\, 11231\, United States
ATTACH;FMTTYPE=image/jpeg:https://waterfrontmuseum.org/wp-content/uploads/2023/07/E40886AB-5060-42EA-AA68-2DF9D4200D02_1_105_c.jpeg
END:VEVENT
BEGIN:VEVENT
DTSTART;TZID=America/New_York:20260723T160000
DTEND;TZID=America/New_York:20260723T200000
DTSTAMP:20260424T083854
CREATED:20251023T142117Z
LAST-MODIFIED:20260330T004504Z
UID:10008149-1784822400-1784836800@waterfrontmuseum.org
SUMMARY:OPEN HOURS
DESCRIPTION:The Waterfront Museum is open on most SATURDAYS 1-5pm and THURSDAYS 4-8pm for free tours for families and individuals when the barge is docked in Red Hook. \nWe will be closed on Saturday\, May 2nd.
URL:https://waterfrontmuseum.org/event/open-hours-3-2/2026-07-23/
LOCATION:Waterfront Museum\, 290 Conover Street\, Brooklyn\, NY\, 11231\, United States
CATEGORIES:Open Hours
ATTACH;FMTTYPE=image/jpeg:https://waterfrontmuseum.org/wp-content/uploads/2023/07/E40886AB-5060-42EA-AA68-2DF9D4200D02_1_105_c.jpeg
END:VEVENT
BEGIN:VEVENT
DTSTART;TZID=America/New_York:20260725T130000
DTEND;TZID=America/New_York:20260725T170000
DTSTAMP:20260424T083854
CREATED:20251023T142008Z
LAST-MODIFIED:20260321T150027Z
UID:10008674-1784984400-1784998800@waterfrontmuseum.org
SUMMARY:OPEN HOURS
DESCRIPTION:The Waterfront Museum is open on most SATURDAYS 1-5pm and THURSDAYS 4-8pm for free tours for families and individuals when the barge is docked in Red Hook. \nWe will be closed on Saturday\, May 2nd.
URL:https://waterfrontmuseum.org/event/open-hours/2026-07-25/
LOCATION:Waterfront Museum\, 290 Conover Street\, Brooklyn\, NY\, 11231\, United States
ATTACH;FMTTYPE=image/jpeg:https://waterfrontmuseum.org/wp-content/uploads/2023/07/E40886AB-5060-42EA-AA68-2DF9D4200D02_1_105_c.jpeg
END:VEVENT
BEGIN:VEVENT
DTSTART;TZID=America/New_York:20260730T160000
DTEND;TZID=America/New_York:20260730T200000
DTSTAMP:20260424T083854
CREATED:20251023T142117Z
LAST-MODIFIED:20260330T004504Z
UID:10008150-1785427200-1785441600@waterfrontmuseum.org
SUMMARY:OPEN HOURS
DESCRIPTION:The Waterfront Museum is open on most SATURDAYS 1-5pm and THURSDAYS 4-8pm for free tours for families and individuals when the barge is docked in Red Hook. \nWe will be closed on Saturday\, May 2nd.
URL:https://waterfrontmuseum.org/event/open-hours-3-2/2026-07-30/
LOCATION:Waterfront Museum\, 290 Conover Street\, Brooklyn\, NY\, 11231\, United States
CATEGORIES:Open Hours
ATTACH;FMTTYPE=image/jpeg:https://waterfrontmuseum.org/wp-content/uploads/2023/07/E40886AB-5060-42EA-AA68-2DF9D4200D02_1_105_c.jpeg
END:VEVENT
BEGIN:VEVENT
DTSTART;TZID=America/New_York:20260801T130000
DTEND;TZID=America/New_York:20260801T170000
DTSTAMP:20260424T083854
CREATED:20251023T142008Z
LAST-MODIFIED:20260321T150027Z
UID:10008675-1785589200-1785603600@waterfrontmuseum.org
SUMMARY:OPEN HOURS
DESCRIPTION:The Waterfront Museum is open on most SATURDAYS 1-5pm and THURSDAYS 4-8pm for free tours for families and individuals when the barge is docked in Red Hook. \nWe will be closed on Saturday\, May 2nd.
URL:https://waterfrontmuseum.org/event/open-hours/2026-08-01/
LOCATION:Waterfront Museum\, 290 Conover Street\, Brooklyn\, NY\, 11231\, United States
ATTACH;FMTTYPE=image/jpeg:https://waterfrontmuseum.org/wp-content/uploads/2023/07/E40886AB-5060-42EA-AA68-2DF9D4200D02_1_105_c.jpeg
END:VEVENT
BEGIN:VEVENT
DTSTART;TZID=America/New_York:20260806T160000
DTEND;TZID=America/New_York:20260806T200000
DTSTAMP:20260424T083854
CREATED:20251023T142117Z
LAST-MODIFIED:20260330T004504Z
UID:10008151-1786032000-1786046400@waterfrontmuseum.org
SUMMARY:OPEN HOURS
DESCRIPTION:The Waterfront Museum is open on most SATURDAYS 1-5pm and THURSDAYS 4-8pm for free tours for families and individuals when the barge is docked in Red Hook. \nWe will be closed on Saturday\, May 2nd.
URL:https://waterfrontmuseum.org/event/open-hours-3-2/2026-08-06/
LOCATION:Waterfront Museum\, 290 Conover Street\, Brooklyn\, NY\, 11231\, United States
CATEGORIES:Open Hours
ATTACH;FMTTYPE=image/jpeg:https://waterfrontmuseum.org/wp-content/uploads/2023/07/E40886AB-5060-42EA-AA68-2DF9D4200D02_1_105_c.jpeg
END:VEVENT
BEGIN:VEVENT
DTSTART;TZID=America/New_York:20260808T130000
DTEND;TZID=America/New_York:20260808T170000
DTSTAMP:20260424T083854
CREATED:20251023T142008Z
LAST-MODIFIED:20260321T150027Z
UID:10008676-1786194000-1786208400@waterfrontmuseum.org
SUMMARY:OPEN HOURS
DESCRIPTION:The Waterfront Museum is open on most SATURDAYS 1-5pm and THURSDAYS 4-8pm for free tours for families and individuals when the barge is docked in Red Hook. \nWe will be closed on Saturday\, May 2nd.
URL:https://waterfrontmuseum.org/event/open-hours/2026-08-08/
LOCATION:Waterfront Museum\, 290 Conover Street\, Brooklyn\, NY\, 11231\, United States
ATTACH;FMTTYPE=image/jpeg:https://waterfrontmuseum.org/wp-content/uploads/2023/07/E40886AB-5060-42EA-AA68-2DF9D4200D02_1_105_c.jpeg
END:VEVENT
END:VCALENDAR